BEGIN:VCALENDAR
VERSION:2.0
PRODID:-//Squarespace Inc/Squarespace 6//v6//EN
BEGIN:VEVENT
UID:5b5d69c36d2a73ec3d1e4c71@squarespace.com
DTSTAMP:20180729T071736Z
DTSTART:20180915T140000Z
DTEND:20180915T150000Z
SUMMARY:End of Term Concert
GEO:-43.575301;172.763497
LOCATION:51A Colenso Street\, Christchurch\, Canterbury\, 8081\, New Zealan
 d
END:VEVENT
END:VCALENDAR
